BEGIN:VCALENDAR
VERSION:2.0
PRODID:icalendar-ruby
CALSCALE:GREGORIAN
METHOD:PUBLISH
BEGIN:VEVENT
DTSTAMP:20260420T075011Z
UID:55-247904@denverumc.org
DTSTART:20261007T224500Z
DTEND:20261008T000000Z
CLASS:PUBLIC
CREATED:20260323T144818
DESCRIPTION:The Leadership Discipleship Experience is a ten-week journey de
 signed to move beyond surface-level faith and into deep\, life-changing tr
 ansformation. Rooted in the conviction that true discipleship is not optio
 nal but essential\, this experience challenges the Western church’s tend
 ency toward information without transformation. Through intentional\, acco
 untable relationships and the power of the Holy Spirit\, participants will
  learn to follow Christ wholeheartedly\, grow in Him daily\, serve faithfu
 lly\, and share His love with others. This is not about short-term change
 —it’s about long-term transformation that reshapes how you see yoursel
 f\, your calling\, and God’s Kingdom work.\nOver the course of this expe
 rience\, you will\n\nDiscover your God-given purpose\nLearn how to clearly
  hear and discern God’s voice\nIdentify and use your spiritual gifts to 
 serve alongside others in community\n\nExpect to be stretched\, encouraged
 \, and equipped through paradigm shifts\, new perspectives\, and hands-on 
 ministry engagement. By the end\, you won’t just know about discipleship
 —you’ll be living it\, ready to apprentice others and multiply faithfu
 l followers of Jesus. This is an investment in yourself\, your faith\, and
  the Kingdom\, leading you to a deeper walk with God and a greater impact 
 on the world around you.
LAST-MODIFIED:20260323T144818
LOCATION:CORC
SUMMARY:Leadership Discipleship Experience #5
URL;VALUE=URI:https://denverumc.org/events/leadership-discipleship-experien
 ce-5/2026-10-07
ATTACH;FILENAME=FOR-DAVID-DISCPLESHIP-LEADERSHIP-Logos.jpg;FMTTYPE=image/jp
 eg:https://dq5pwpg1q8ru0.cloudfront.net/2026/03/23/18/48/18/67df5bf7-245e-
 4c20-a262-49dec0923b3d/FOR-DAVID-DISCPLESHIP-LEADERSHIP-Logos.jpg
END:VEVENT
END:VCALENDAR
