BEGIN:VCALENDAR
VERSION:2.0
PRODID:icalendar-ruby
CALSCALE:GREGORIAN
METHOD:PUBLISH
BEGIN:VEVENT
DTSTAMP:20260420T022223Z
UID:56-253459@denverumc.org
DTSTART:20260520T220000Z
DTEND:20260520T233000Z
CLASS:PUBLIC
CREATED:20260402T091748
DESCRIPTION:The LDE Momentum Gathering is for everyone who has participated
  in the Leadership Discipleship Experience. Each month will be a potluck d
 inner where we will share a meal and have a motivational discussion/presen
 tation.
LAST-MODIFIED:20260402T091748
LOCATION:CORC
SUMMARY:LDE Momentum Gathering
URL;VALUE=URI:https://denverumc.org/events/lde-momentum-gathering/2026-05-2
 0
ATTACH;FILENAME=Momentum-Gathering.jpg;FMTTYPE=image/jpeg:https://dq5pwpg1q
 8ru0.cloudfront.net/2026/04/02/13/17/48/934731df-bb13-4f88-8ea5-90746eff6e
 7a/Momentum-Gathering.jpg
END:VEVENT
END:VCALENDAR
