BEGIN:VCALENDAR
VERSION:2.0
PRODID:icalendar-ruby
CALSCALE:GREGORIAN
METHOD:PUBLISH
BEGIN:VEVENT
DTSTAMP:20260420T022228Z
UID:10-260317@denverumc.org
DTSTART:20260426T140000Z
DTEND:20260426T150000Z
CLASS:PUBLIC
CREATED:20260414T080659
DESCRIPTION:
LAST-MODIFIED:20260414T080659
LOCATION:Sanctuary
SUMMARY:Combined Sunday Worship
URL;VALUE=URI:https://denverumc.org/events/combined-sunday-worship--10/2026
 -04-26
ATTACH;FILENAME=Combined-Sanctuary.jpg;FMTTYPE=image/jpeg:https://dq5pwpg1q
 8ru0.cloudfront.net/2025/11/11/20/18/55/1b718d7f-9135-4f83-99d6-3bac16d581
 5a/Combined-Sanctuary.jpg
END:VEVENT
END:VCALENDAR
