BEGIN:VCALENDAR
VERSION:2.0
PRODID:icalendar-ruby
CALSCALE:GREGORIAN
METHOD:PUBLISH
BEGIN:VEVENT
DTSTAMP:20260420T035621Z
UID:9-260321@denverumc.org
DTSTART:20260614T140000Z
DTEND:20260614T150000Z
CLASS:PUBLIC
CREATED:20260414T081327
DESCRIPTION:
LAST-MODIFIED:20260414T081327
LOCATION:FLC
SUMMARY:Combined Contemporary Worship
URL;VALUE=URI:https://denverumc.org/events/combined-contemporary-worship/20
 26-06-14
ATTACH;FILENAME=Combined-FLC.jpg;FMTTYPE=image/jpeg:https://dq5pwpg1q8ru0.c
 loudfront.net/2025/11/11/20/20/13/33421c8b-5497-4740-a6e1-a3140ac513bb/Com
 bined-FLC.jpg
END:VEVENT
END:VCALENDAR
