BEGIN:VCALENDAR
VERSION:2.0
PRODID:icalendar-ruby
CALSCALE:GREGORIAN
METHOD:PUBLISH
BEGIN:VEVENT
DTSTAMP:20260420T022222Z
UID:50-260505@denverumc.org
DTSTART;VALUE=DATE:20260427
DTEND;VALUE=DATE:20260427
CLASS:PUBLIC
CREATED:20260414T121620
DESCRIPTION:
LAST-MODIFIED:20260414T121620
LOCATION:
SUMMARY:Church Office Closed
URL;VALUE=URI:https://denverumc.org/events/church-office-closed--50/2026-04
 -27
ATTACH;FILENAME=Website-graphics-1500-x-784px-10.jpg;FMTTYPE=image/jpeg:htt
 ps://dq5pwpg1q8ru0.cloudfront.net/2026/04/14/16/16/20/6fe0b93f-76fe-4e29-8
 080-62b84bdeab9f/Website-graphics-1500-x-784px-10.jpg
END:VEVENT
END:VCALENDAR
